BEGIN:VCALENDAR
VERSION:2.0
PRODID:-//SportPlan//Event Calendar//EN
CALSCALE:GREGORIAN
BEGIN:VEVENT
UID:7843e7d4-e936-405c-ab77-3c71856bdad2@sportplan.local
DTSTAMP:20260420T191655Z
DTSTART;VALUE=DATE:20260514
DTEND;VALUE=DATE:20260517
SUMMARY:Ultra-Trail Australia
DESCRIPTION:
LOCATION:Sídney
URL:https://sportplan.vercel.app/en/events/ultra-trail-australia-sidney-2026-05-14
END:VEVENT
END:VCALENDAR
