BEGIN:VCALENDAR
VERSION:2.0
PRODID:-//SportPlan//Event Calendar//EN
CALSCALE:GREGORIAN
BEGIN:VEVENT
UID:5342fac5-bab9-4f3c-bea2-1012fbfd4b0e@sportplan.local
DTSTAMP:20260420T181013Z
DTSTART;VALUE=DATE:20260821
DTEND;VALUE=DATE:20260822
SUMMARY:Ultra Tour 160 KM Relevos
DESCRIPTION:Ultra Tour 160 KM Relevos aura lieu le 21 août 2026 à Spain. C'est un rendez-vous idéal pour les participants à la recherche d'un défi bien organisé en FR\, avec une ambiance motivante du début à la fin. Avec une distance d'environ 160 km\, l'événement propose une expérience sportive attractive pour les habitués comme pour ceux qui veulent se fixer un nouvel objectif.
LOCATION:Spain
URL:https://sportplan.vercel.app/en/events/ultra-tour-160-km-relevos-n-a-2026-08-21-160k
END:VEVENT
END:VCALENDAR
