BEGIN:VCALENDAR
VERSION:2.0
PRODID:-//SportPlan//Event Calendar//EN
CALSCALE:GREGORIAN
BEGIN:VEVENT
UID:f563a9dc-b60d-4b4e-832f-7c8f04718f45@sportplan.local
DTSTAMP:20260420T192019Z
DTSTART;VALUE=DATE:20260425
DTEND;VALUE=DATE:20260426
SUMMARY:Ultra Sierra Morena
DESCRIPTION:Ultra Sierra Morena se celebra en Sierra Morena\, Sevilla el 25 de abril de 2026. Es una cita ideal para vivir una gran jornada de running con un recorrido de 70 km route that suits both focused racing and enjoying the local atmosphere. Tanto si buscas marca como si prefieres disfrutar del recorrido\, ofrece una experiencia atractiva para corredores y acompañantes.
LOCATION:Sierra Morena\, Sevilla
URL:https://sportplan.vercel.app/en/events/ultra-sierra-morena-cazalla-de-la-sierra-2026-04-25
END:VEVENT
END:VCALENDAR
