BEGIN:VCALENDAR
VERSION:2.0
PRODID:-//SportPlan//Event Calendar//EN
CALSCALE:GREGORIAN
BEGIN:VEVENT
UID:da6d3d75-ccee-49cf-9809-e235fc71d816@sportplan.local
DTSTAMP:20260420T204314Z
DTSTART;VALUE=DATE:20261019
DTEND;VALUE=DATE:20261020
SUMMARY:Ultra Sierra de Cazorla
DESCRIPTION:Ultra Sierra de Cazorla se celebrará el 19 de octubre de 2026 en Quesada\, Jaén\, Andalucía\, reuniendo a participantes que buscan una jornada deportiva bien organizada. La prueba propone un recorrido de 63 km que combina reto y disfrute. Es una excelente oportunidad para disfrutar del ambiente local\, marcarse un objetivo de temporada y vivir el evento con buena energía.
LOCATION:Quesada\, Jaén\, Andalucía
URL:https://sportplan.vercel.app/en/events/ultra-sierra-de-cazorla-quesada-2026-10-19-63k
END:VEVENT
END:VCALENDAR
