BEGIN:VCALENDAR
VERSION:2.0
PRODID:-//SportPlan//Event Calendar//EN
CALSCALE:GREGORIAN
BEGIN:VEVENT
UID:0b87db6a-32c1-4a65-8fd6-f83ffdb28e3f@sportplan.local
DTSTAMP:20260420T204652Z
DTSTART;VALUE=DATE:20260725
DTEND;VALUE=DATE:20260726
SUMMARY:Ultra Sella Asturias
DESCRIPTION:Ultra Sella Asturias se celebrará el 25 de julio de 2026 en Arriondas\, Valle del Sella. Es una buena opción para quienes buscan un reto bien organizado y una jornada deportiva en un entorno especial. La distancia anunciada es de 50 km\, ideal para planificar ritmo\, entrenamiento y logística con antelación.
LOCATION:Arriondas\, Valle del Sella
URL:https://sportplan.vercel.app/en/events/ultra-sella-asturias-arriondas-2026-07-25
END:VEVENT
END:VCALENDAR
