BEGIN:VCALENDAR
VERSION:2.0
PRODID:-//SportPlan//Event Calendar//EN
CALSCALE:GREGORIAN
BEGIN:VEVENT
UID:d05ce806-4632-4c69-b3e9-40c61ea737cf@sportplan.local
DTSTAMP:20260420T193558Z
DTSTART;VALUE=DATE:20260926
DTEND;VALUE=DATE:20260927
SUMMARY:Ultra Paine® 2026 – Registration
DESCRIPTION:Official registration page for Ultra Paine 2026\; prices confirmed: 5K USD$105\, 14K USD$203\, 21K USD$273\, 35K USD$278\, 50K USD$330 (Normal period 15 Jan – 5 Aug)\; Chilean residents CLP pricing also available\; registration is OPEN\; WeTravel payment system
LOCATION:Torres del Paine\, Patagonia\, Chile
URL:https://sportplan.vercel.app/en/events/ultra-paine-2026-registration-2026-09-26
END:VEVENT
END:VCALENDAR
