BEGIN:VCALENDAR
VERSION:2.0
PRODID:-//SportPlan//Event Calendar//EN
CALSCALE:GREGORIAN
BEGIN:VEVENT
UID:4008ac84-e5f6-461e-8c15-11cbd36add82@sportplan.local
DTSTAMP:20260420T210530Z
DTSTART;VALUE=DATE:20260724
DTEND;VALUE=DATE:20260725
SUMMARY:Ultra NORWAY Race
DESCRIPTION:Ultra NORWAY Race arrangeres 24. juli 2026 i Norway. Dette er et godt valg for deltakere som ønsker en godt organisert sportslig utfordring og en sterk arrangementsopplevelse. Sjekk praktiske detaljer om løypa og arrangementet på forhånd for å stille best mulig forberedt.
LOCATION:Norway
URL:https://sportplan.vercel.app/en/events/ultra-norway-race-2026-07-24
END:VEVENT
END:VCALENDAR
