BEGIN:VCALENDAR
VERSION:2.0
PRODID:-//SportPlan//Event Calendar//EN
CALSCALE:GREGORIAN
BEGIN:VEVENT
UID:41a6685b-290d-4310-926a-63bd3cc4815a@sportplan.local
DTSTAMP:20260420T192045Z
DTSTART;VALUE=DATE:20260501
DTEND;VALUE=DATE:20260503
SUMMARY:Ultra Blue Island By Azores Trail Run
DESCRIPTION:Ultra Blue Island By Azores Trail Run acontecerá em 1 de maio de 2026 em Horta. É uma ótima opção para quem procura uma experiência esportiva bem organizada. Ideal tanto para participantes experientes quanto para quem quer assumir um novo desafio no calendário.
LOCATION:Horta
URL:https://sportplan.vercel.app/en/events/ultra-blue-island-by-azores-trail-run-horta-2026-05-01
END:VEVENT
END:VCALENDAR
