BEGIN:VCALENDAR
VERSION:2.0
PRODID:-//SportPlan//Event Calendar//EN
CALSCALE:GREGORIAN
BEGIN:VEVENT
UID:d697acb2-a621-4208-9ca2-e820361bb08c@sportplan.local
DTSTAMP:20260420T204222Z
DTSTART;VALUE=DATE:20260814
DTEND;VALUE=DATE:20260815
SUMMARY:ÜLEMISTE Night Run Estonia
DESCRIPTION:ÜLEMISTE Night Run Estonia 2026 is an official amateur road running festival in Tallinn\, Estonia\, scheduled for 14 to 15 August 2026. The official organizer page lists public-entry 5 km\, 10 km\, half marathon\, children's runs\, ladies-only race options\, and virtual formats at Ülemiste.
LOCATION:Ülemiste\, Tallinn\, Estonia
URL:https://sportplan.vercel.app/en/events/ulemiste-night-run-estonia-2026-08-14
END:VEVENT
END:VCALENDAR
