BEGIN:VCALENDAR
VERSION:2.0
PRODID:-//SportPlan//Event Calendar//EN
CALSCALE:GREGORIAN
BEGIN:VEVENT
UID:cf47541a-9c1b-4010-946d-ea6fc12cee69@sportplan.local
DTSTAMP:20260420T204326Z
DTSTART;VALUE=DATE:20260424
DTEND;VALUE=DATE:20260425
SUMMARY:ÜLEMISTE Grit 2026
DESCRIPTION:ÜLEMISTE Grit 2026 is an official amateur participation running and walking event in Tallinn\, Estonia on 24 April 2026. The official organizer page lists public 1-hour\, 2-hour\, and 3-hour run or walk formats plus a virtual option at Ülemiste keskus.
LOCATION:Ülemiste keskus\, Tallinn\, Estonia
URL:https://sportplan.vercel.app/en/events/ulemiste-grit-2026-tallinn-2026-04-24
END:VEVENT
END:VCALENDAR
