BEGIN:VCALENDAR
VERSION:2.0
PRODID:-//SportPlan//Event Calendar//EN
CALSCALE:GREGORIAN
BEGIN:VEVENT
UID:bb7d04f1-2e7f-4fe1-b57c-55e5a83091eb@sportplan.local
DTSTAMP:20260420T204843Z
DTSTART;VALUE=DATE:20261129
DTEND;VALUE=DATE:20261130
SUMMARY:UCI Gran Fondo World Series Colombia 2026
DESCRIPTION:UCI Gran Fondo World Series Colombia 2026 is an official amateur road-cycling event in Bogotá. The official event site lists the 2026 edition for 29 November 2026 in Bogotá and describes a UCI-sanctioned road-cycling event that brings together professional and amateur cyclists on a mass-participation course in the Colombian capital\, with public access to the event arena and rider support services.
LOCATION:Bogotá
URL:https://sportplan.vercel.app/en/events/uci-gran-fondo-world-series-colombia-2026-2026-11-29
END:VEVENT
END:VCALENDAR
