BEGIN:VCALENDAR
VERSION:2.0
PRODID:-//SportPlan//Event Calendar//EN
CALSCALE:GREGORIAN
BEGIN:VEVENT
UID:f5030a95-6e76-4b0b-8b88-dd2b5e4f86a5@sportplan.local
DTSTAMP:20260420T204841Z
DTSTART;VALUE=DATE:20260523
DTEND;VALUE=DATE:20260525
SUMMARY:UCI Gran Fondo Hangzhou Qiandao Lake 2026
DESCRIPTION:UCI Gran Fondo Hangzhou Qiandao Lake 2026 is an amateur road cycling event in Hangzhou\, China\, built around a UCI Gran Fondo World Series qualifier weekend. The official event site presents a 107.7 km granfondo around Qiandao Lake\, while the official UCI page confirms the 23-24 May 2026 dates\, the 21 km time trial\, and the open amateur qualifier format on roads first used for the Asian Games course area.
LOCATION:Hangzhou
URL:https://sportplan.vercel.app/en/events/uci-gran-fondo-hangzhou-qiandao-lake-2026-2026-05-23
END:VEVENT
END:VCALENDAR
