BEGIN:VCALENDAR
VERSION:2.0
PRODID:-//SportPlan//Event Calendar//EN
CALSCALE:GREGORIAN
BEGIN:VEVENT
UID:6fb6ab5d-d808-4803-8907-796c50f92d1c@sportplan.local
DTSTAMP:20260420T204845Z
DTSTART;VALUE=DATE:20260524
DTEND;VALUE=DATE:20260525
SUMMARY:UCI Gran Fondo Hangzhou 2026
DESCRIPTION:UCI Gran Fondo Hangzhou 2026 is an amateur road-cycling qualifier in Hangzhou\, China on 24 May 2026. The official UCI Gran Fondo World Series page presents an open-participation weekend with a 107 km granfondo around Qiandao Lake plus a time trial the day before.
LOCATION:Hangzhou
URL:https://sportplan.vercel.app/en/events/uci-gran-fondo-hangzhou-2026-hangzhou-2026-05-24
END:VEVENT
END:VCALENDAR
