BEGIN:VCALENDAR
VERSION:2.0
PRODID:-//SportPlan//Event Calendar//EN
CALSCALE:GREGORIAN
BEGIN:VEVENT
UID:e8a6d0fe-52b5-4bf9-8ba5-2ef986a7cefa@sportplan.local
DTSTAMP:20260420T211514Z
DTSTART;VALUE=DATE:20260830
DTEND;VALUE=DATE:20260831
SUMMARY:Ötztaler Radmarathon 2026
DESCRIPTION:Ötztaler Radmarathon 2026 findet am 30. August 2026 in Sölden\, Tirol statt. Die Veranstaltung ist eine starke Wahl für Teilnehmende und Begleitpersonen\, die ein aktives und gut organisiertes Event suchen. Die ausgeschriebene Distanz beträgt 238 km.
LOCATION:Sölden\, Tirol
URL:https://sportplan.vercel.app/en/events/tztaler-radmarathon-2026-s-lden-2026-08-30
END:VEVENT
END:VCALENDAR
