BEGIN:VCALENDAR
VERSION:2.0
PRODID:-//SportPlan//Event Calendar//EN
CALSCALE:GREGORIAN
BEGIN:VEVENT
UID:d9ca9228-bee6-4d52-9cd6-6192bd5962bb@sportplan.local
DTSTAMP:20260421T001201Z
DTSTART;VALUE=DATE:20270117
DTEND;VALUE=DATE:20270118
SUMMARY:Two Bays Trail Run
DESCRIPTION:
LOCATION:Melbourne
URL:https://sportplan.vercel.app/en/events/two-bays-trail-run-melbourne-2027-01-17
END:VEVENT
END:VCALENDAR
