BEGIN:VCALENDAR
VERSION:2.0
PRODID:-//SportPlan//Event Calendar//EN
CALSCALE:GREGORIAN
BEGIN:VEVENT
UID:239e3773-65fe-4d4f-9e31-fd9218f81bd8@sportplan.local
DTSTAMP:20260420T205938Z
DTSTART;VALUE=DATE:20270117
DTEND;VALUE=DATE:20270118
SUMMARY:Two Bays Trail Run 2027
DESCRIPTION:28km + 56km ultra trail across Mornington Peninsula\; through Greens Bush and cliff tops\; discovered via runningcalendar.com.au
LOCATION:Mornington Peninsula\, VIC\, Australia
URL:https://sportplan.vercel.app/en/events/two-bays-trail-run-2027-2027-01-17
END:VEVENT
END:VCALENDAR
