BEGIN:VCALENDAR
VERSION:2.0
PRODID:-//SportPlan//Event Calendar//EN
CALSCALE:GREGORIAN
BEGIN:VEVENT
UID:c25ae6c7-d504-4391-8db2-c157cfd4288f@sportplan.local
DTSTAMP:20260420T180434Z
DTSTART;VALUE=DATE:20260808
DTEND;VALUE=DATE:20260809
SUMMARY:Twin Lakes Triathlon and Duathlon
DESCRIPTION:Twin Lakes Triathlon and Duathlon is scheduled for August 8\, 2026 in Manson. It offers a great opportunity to enjoy a well-organized sporting event with a strong atmosphere and an engaging course. Its accessible format and attractive setting make it a solid option for a wide range of participants.
LOCATION:Manson
URL:https://sportplan.vercel.app/en/events/twin-lakes-triathlon-and-duathlon-manson-2026-08-08
END:VEVENT
END:VCALENDAR
