BEGIN:VCALENDAR
VERSION:2.0
PRODID:-//SportPlan//Event Calendar//EN
CALSCALE:GREGORIAN
BEGIN:VEVENT
UID:4af18e17-7b42-4485-9945-09bafc1a6771@sportplan.local
DTSTAMP:20260420T194053Z
DTSTART;VALUE=DATE:20261101
DTEND;VALUE=DATE:20261102
SUMMARY:Türkiye İş Bankası 48th Istanbul Marathon\, 01 Nov 2026
DESCRIPTION:World's Marathons event page for Istanbul Marathon.
LOCATION:Istanbul\, Türkiye
URL:https://sportplan.vercel.app/en/events/turkiye-is-bankas-48th-istanbul-marathon-01-nov-2026-2026-11-01
END:VEVENT
END:VCALENDAR
