BEGIN:VCALENDAR
VERSION:2.0
PRODID:-//SportPlan//Event Calendar//EN
CALSCALE:GREGORIAN
BEGIN:VEVENT
UID:acc462b7-c90c-498f-8df1-117202d51500@sportplan.local
DTSTAMP:20260420T205827Z
DTSTART;VALUE=DATE:20260906
DTEND;VALUE=DATE:20260907
SUMMARY:Trondheim Marathon
DESCRIPTION:Trondheim Marathon arrangeres i Trondheim\, Norway 6 september 2026 og samler deltakerne til en sportslig dag med god stemning. Her kan man forvente et godt organisert arrangement\, motiverte deltakere og en solid lokal løpsopplevelse.
LOCATION:Trondheim\, Norway
URL:https://sportplan.vercel.app/en/events/trondheim-marathon-2026-09-06
END:VEVENT
END:VCALENDAR
