BEGIN:VCALENDAR
VERSION:2.0
PRODID:-//SportPlan//Event Calendar//EN
CALSCALE:GREGORIAN
BEGIN:VEVENT
UID:2552218f-4c6a-4949-970d-3dfa43044f04@sportplan.local
DTSTAMP:20260420T210551Z
DTSTART;VALUE=DATE:20260627
DTEND;VALUE=DATE:20260628
SUMMARY:Tromsø Marathon 2026
DESCRIPTION:Tromsø Marathon 2026 arrangeres 2026-06-27 i Tromsø\, Troms. Dette er et godt valg for deltakere som ønsker en godt organisert utfordring på 42.2 km. Arrangementet passer både for dem som vil prestere og dem som vil nyte stemningen gjennom dagen.
LOCATION:Tromsø\, Troms
URL:https://sportplan.vercel.app/en/events/troms-marathon-2026-troms-2026-06-27
END:VEVENT
END:VCALENDAR
