BEGIN:VCALENDAR
VERSION:2.0
PRODID:-//SportPlan//Event Calendar//EN
CALSCALE:GREGORIAN
BEGIN:VEVENT
UID:873c85df-a9da-4d65-b938-ac7bb262564d@sportplan.local
DTSTAMP:20260420T204418Z
DTSTART;VALUE=DATE:20260829
DTEND;VALUE=DATE:20260830
SUMMARY:Trofeo Kima 2026
DESCRIPTION:Trofeo Kima 2026 si terrà il 29 de agosto de 2026 a Filorera\, Lombardia. È un appuntamento ideale per partecipanti e accompagnatori che cercano un'atmosfera sportiva e ben organizzata. La distanza annunciata è di 52 km.
LOCATION:Filorera\, Lombardia
URL:https://sportplan.vercel.app/en/events/trofeo-kima-2026-filorera-2026-08-29
END:VEVENT
END:VCALENDAR
