BEGIN:VCALENDAR
VERSION:2.0
PRODID:-//SportPlan//Event Calendar//EN
CALSCALE:GREGORIAN
BEGIN:VEVENT
UID:2a091dd5-57ba-455a-9658-79dde8e46538@sportplan.local
DTSTAMP:20260420T163812Z
DTSTART;VALUE=DATE:20260420
DTEND;VALUE=DATE:20260421
SUMMARY:Trivert Cross Triathlon de Moulin
DESCRIPTION:Trivert Cross Triathlon de Moulin a lieu à Moulins le 20 avril 2026. C’est un rendez-vous parfait pour profiter d’une belle journée de course\, avec un parcours de 11 km\, idéal autant pour viser un chrono que pour profiter de l’ambiance locale. Que vous visiez la performance ou une expérience plus conviviale\, l’événement promet une ambiance motivante du début à la fin.
LOCATION:Moulins
URL:https://sportplan.vercel.app/en/events/trivert-cross-triathlon-de-moulin-moulins-2026-04-20
END:VEVENT
END:VCALENDAR
