BEGIN:VCALENDAR
VERSION:2.0
PRODID:-//SportPlan//Event Calendar//EN
CALSCALE:GREGORIAN
BEGIN:VEVENT
UID:23ab3df7-b0fd-46e6-94f9-61297f2cf77a@sportplan.local
DTSTAMP:20260420T211724Z
DTSTART;VALUE=DATE:20260927
DTEND;VALUE=DATE:20260928
SUMMARY:Triogi Triathlon Championship Kumanovo 2026
DESCRIPTION:Triogi Triathlon Championship Kumanovo 2026 is an official amateur triathlon in Kumanovo\, North Macedonia on 27 September 2026. The Triathlon Federation of North Macedonia's 2026 race calendar lists it as an open championship sprint triathlon with the published format of 750 m swim\, 20 km bike\, and 5 km run\, making it a credible official-source participation event.
LOCATION:Kumanovo
URL:https://sportplan.vercel.app/en/events/triogi-triathlon-championship-kumanovo-2026-2026-09-27
END:VEVENT
END:VCALENDAR
