BEGIN:VCALENDAR
VERSION:2.0
PRODID:-//SportPlan//Event Calendar//EN
CALSCALE:GREGORIAN
BEGIN:VEVENT
UID:f79e45e1-7e64-484d-80a1-fedcae78162d@sportplan.local
DTSTAMP:20260420T210715Z
DTSTART;VALUE=DATE:20260515
DTEND;VALUE=DATE:20260516
SUMMARY:Triathlon Weizmann Institute 2026
DESCRIPTION:Official Israeli Triathlon Association page - kids/youth 8-19 triathlon\; pool swim 33m\; confirmed live with date 15.5.2026
LOCATION:Rehovot (Weizmann Institute of Science)\, Israel
URL:https://sportplan.vercel.app/en/events/triathlon-weizmann-institute-2026-2026-05-15
END:VEVENT
END:VCALENDAR
