BEGIN:VCALENDAR
VERSION:2.0
PRODID:-//SportPlan//Event Calendar//EN
CALSCALE:GREGORIAN
BEGIN:VEVENT
UID:170c9a8d-97ce-415b-87a2-5738d6b62526@sportplan.local
DTSTAMP:20260420T180436Z
DTSTART;VALUE=DATE:20260928
DTEND;VALUE=DATE:20260929
SUMMARY:Triathlon et Duathlon d'Ardres
DESCRIPTION:Triathlon et Duathlon d'Ardres a lieu à Ardres le 28 septembre 2026\, offrant aux coureurs une belle occasion de profiter d’une ambiance sportive soignée dans FR. La distance annoncée est de 31 km\, un format idéal pour les coureurs en quête d’un défi clair et d’une belle journée de course. L’événement s’adresse aussi bien aux athlètes réguliers qu’aux participants motivés en quête d’une expérience stimulante.
LOCATION:Ardres
URL:https://sportplan.vercel.app/en/events/triathlon-et-duathlon-d-ardres-ardres-2026-09-28
END:VEVENT
END:VCALENDAR
