BEGIN:VCALENDAR
VERSION:2.0
PRODID:-//SportPlan//Event Calendar//EN
CALSCALE:GREGORIAN
BEGIN:VEVENT
UID:d5db00fc-1ee3-4cb0-bf30-c73c313546a4@sportplan.local
DTSTAMP:20260420T180334Z
DTSTART;VALUE=DATE:20260502
DTEND;VALUE=DATE:20260504
SUMMARY:Triathlon du Domino
DESCRIPTION:
LOCATION:Suèvres
URL:https://sportplan.vercel.app/en/events/triathlon-du-domino-suevres-2026-05-02
END:VEVENT
END:VCALENDAR
