BEGIN:VCALENDAR
VERSION:2.0
PRODID:-//SportPlan//Event Calendar//EN
CALSCALE:GREGORIAN
BEGIN:VEVENT
UID:db96be17-a3b5-4345-bb13-bc79617818c1@sportplan.local
DTSTAMP:20260420T204610Z
DTSTART;VALUE=DATE:20260906
DTEND;VALUE=DATE:20260907
SUMMARY:Tri ved Havnen – Sprint og 1/4
DESCRIPTION:Tri ved Havnen – Sprint og 1/4 is an official amateur triathlon in Aalborg\, Denmark on 6 September 2026. The event is listed on Triatlon Danmark's official calendar\, and the organizer's Triathlon for Alle website describes a public-friendly harbour race in Aalborg with room for around 250 participants.
LOCATION:Aalborg Østre Havn\, Aalborg
URL:https://sportplan.vercel.app/en/events/tri-ved-havnen-sprint-og-1-4-aalborg-2026-09-06
END:VEVENT
END:VCALENDAR
