BEGIN:VCALENDAR
VERSION:2.0
PRODID:-//SportPlan//Event Calendar//EN
CALSCALE:GREGORIAN
BEGIN:VEVENT
UID:74c0026c-8387-4325-aa51-898a9bbee51f@sportplan.local
DTSTAMP:20260420T204556Z
DTSTART;VALUE=DATE:20260912
DTEND;VALUE=DATE:20260913
SUMMARY:Tri På Tyren 2026
DESCRIPTION:Tri På Tyren 2026 is an official amateur triathlon in Lynge\, Denmark on 12 September 2026. The Danish federation calendar lists it as a membership and motion race\, and the organizer Ganløse Triatlon & Motion links direct registration for the 2026 edition from its official Tri På Tyren site.
LOCATION:Lynge
URL:https://sportplan.vercel.app/en/events/tri-pa-tyren-2026-lynge-2026-09-12
END:VEVENT
END:VCALENDAR
