BEGIN:VCALENDAR
VERSION:2.0
PRODID:-//SportPlan//Event Calendar//EN
CALSCALE:GREGORIAN
BEGIN:VEVENT
UID:3132dc25-effd-477b-af59-fbef9856d426@sportplan.local
DTSTAMP:20260420T234731Z
DTSTART;VALUE=DATE:20261010
DTEND;VALUE=DATE:20261012
SUMMARY:Travesera Integral Picos de Europa 2026
DESCRIPTION:Travesera Integral Picos de Europa 2026 se celebrará en Sotres\, Asturias el 10 octubre 2026. Es una cita ideal para quienes buscan una experiencia deportiva bien organizada y un recorrido de 74 km. Perfecto tanto para participantes que quieren rendir al máximo como para quienes desean disfrutar del ambiente del evento.
LOCATION:Sotres\, Asturias
URL:https://sportplan.vercel.app/en/events/travesera-integral-picos-de-europa-2026-sotres-2026-10-10
END:VEVENT
END:VCALENDAR
