BEGIN:VCALENDAR
VERSION:2.0
PRODID:-//SportPlan//Event Calendar//EN
CALSCALE:GREGORIAN
BEGIN:VEVENT
UID:7556b1df-bc76-4853-b018-bbd2be2b9621@sportplan.local
DTSTAMP:20260420T180549Z
DTSTART;VALUE=DATE:20260516
DTEND;VALUE=DATE:20260517
SUMMARY:Transvulcania Ultramarathon 2026
DESCRIPTION:Transvulcania Ultramarathon 2026 se celebra el 16 de mayo de 2026 en Los Llanos de Aridane. La prueba recorre 74 km. Ideal para participantes que quieren disfrutar del recorrido\, el ambiente del evento y una jornada activa.
LOCATION:Los Llanos de Aridane
URL:https://sportplan.vercel.app/en/events/transvulcania-ultramarathon-2026-los-llanos-de-aridane-2026-05-16
END:VEVENT
END:VCALENDAR
