BEGIN:VCALENDAR
VERSION:2.0
PRODID:-//SportPlan//Event Calendar//EN
CALSCALE:GREGORIAN
BEGIN:VEVENT
UID:020dc452-e78e-4574-90ae-aad40e83d121@sportplan.local
DTSTAMP:20260420T181012Z
DTSTART;VALUE=DATE:20260511
DTEND;VALUE=DATE:20260512
SUMMARY:Transvulcania By UTMB 73K
DESCRIPTION:Transvulcania By UTMB 73K se celebra el 11 de mayo de 2026 en Fuencaliente de La Palma\, La Palma\, Canarias. La prueba recorre 73 km. Ideal para participantes que quieren disfrutar del recorrido\, el ambiente del evento y una jornada activa.
LOCATION:Fuencaliente de La Palma\, La Palma\, Canarias
URL:https://sportplan.vercel.app/en/events/transvulcania-by-utmb-73k-fuencaliente-de-la-palma-2026-05-11-73k
END:VEVENT
END:VCALENDAR
