BEGIN:VCALENDAR
VERSION:2.0
PRODID:-//SportPlan//Event Calendar//EN
CALSCALE:GREGORIAN
BEGIN:VEVENT
UID:d86f1fc5-6e4b-40d0-8f14-b6ed4c19f8a9@sportplan.local
DTSTAMP:20260420T204329Z
DTSTART;VALUE=DATE:20260614
DTEND;VALUE=DATE:20260615
SUMMARY:Transviamala 65K 2026
DESCRIPTION:Transviamala 65K 2026 findet am 14. Juni 2026 in Thusis\, Graubünden statt. Diese Veranstaltung bietet ein gut organisiertes Lauferlebnis\, mit einer Strecke von etwa 65 km. Freuen Sie sich auf eine motivierende Atmosphäre\, eine klare sportliche Herausforderung und einen starken Renntag in Thusis\, Graubünden.
LOCATION:Thusis\, Graubünden
URL:https://sportplan.vercel.app/en/events/transviamala-65k-2026-thusis-2026-06-14
END:VEVENT
END:VCALENDAR
