BEGIN:VCALENDAR
VERSION:2.0
PRODID:-//SportPlan//Event Calendar//EN
CALSCALE:GREGORIAN
BEGIN:VEVENT
UID:751d3d7c-8412-4b82-96a0-e576105529e1@sportplan.local
DTSTAMP:20260420T191653Z
DTSTART;VALUE=DATE:20260502
DTEND;VALUE=DATE:20260503
SUMMARY:TransPeneda-Gerês®
DESCRIPTION:TransPeneda-Gerês® acontece em 02/05/2026\, em Terras de Bouro\, PT\, com uma distância oficial definida pela organização. É uma ótima oportunidade para aproveitar o ambiente do evento\, assumir um desafio esportivo e viver um dia ativo em um cenário especial.
LOCATION:Terras de Bouro
URL:https://sportplan.vercel.app/en/events/transpeneda-geres-terras-de-bouro-2026-05-02
END:VEVENT
END:VCALENDAR
