BEGIN:VCALENDAR
VERSION:2.0
PRODID:-//SportPlan//Event Calendar//EN
CALSCALE:GREGORIAN
BEGIN:VEVENT
UID:b8141314-2fa4-491e-9fd5-32c8f882b2f9@sportplan.local
DTSTAMP:20260420T204407Z
DTSTART;VALUE=DATE:20260628
DTEND;VALUE=DATE:20260629
SUMMARY:Trakų triatlonas 2026
DESCRIPTION:Trakų triatlonas 2026 is an official amateur triathlon event in Trakai\, Lithuania on 28 June 2026\, listed in the 2026 Lithuanian Triathlon Federation calendar. The same federation page marks it as the Lithuanian standard-distance triathlon championship and lists open race formats including Olympic distance\, sprint distance\, and super sprint distance for junior and open participation categories.
LOCATION:Trakai
URL:https://sportplan.vercel.app/en/events/traku-triatlonas-2026-trakai-2026-06-28
END:VEVENT
END:VCALENDAR
