BEGIN:VCALENDAR
VERSION:2.0
PRODID:-//SportPlan//Event Calendar//EN
CALSCALE:GREGORIAN
BEGIN:VEVENT
UID:f4b44af7-abf9-4d0f-b63d-fa655bd500cf@sportplan.local
DTSTAMP:20260420T194053Z
DTSTART;VALUE=DATE:20260525
DTEND;VALUE=DATE:20260526
SUMMARY:Trail Tietar - Desafío Galayos 42K
DESCRIPTION:Trail Tietar - Desafío Galayos 42K se celebrará el 25 de mayo de 2026 en Arenas de San Pedro\, Ávila\, Castilla y León. Es una cita ideal para quienes buscan disfrutar del ambiente del evento y vivir una experiencia deportiva bien organizada\, con un recorrido aproximado de 42 km. Perfecto tanto para participantes habituales como para quienes quieren sumar un nuevo reto al calendario.
LOCATION:Arenas de San Pedro\, Ávila\, Castilla y León
URL:https://sportplan.vercel.app/en/events/trail-tietar-desafio-galayos-42k-arenas-de-san-pedro-2026-05-25-42k
END:VEVENT
END:VCALENDAR
