BEGIN:VCALENDAR
VERSION:2.0
PRODID:-//SportPlan//Event Calendar//EN
CALSCALE:GREGORIAN
BEGIN:VEVENT
UID:cc3eda37-428e-4c30-8391-7187efa65711@sportplan.local
DTSTAMP:20260420T204648Z
DTSTART;VALUE=DATE:20260523
DTEND;VALUE=DATE:20260524
SUMMARY:Trail Sierra del Aramo
DESCRIPTION:Trail Sierra del Aramo se celebrará el 23 mayo 2026 en Riosa\, Sierra del Aramo. Con una distancia de 35 km\, propone un recorrido exigente pero accesible para quienes buscan un buen reto. Ideal para quienes quieren marcarse un objetivo de temporada y vivir una jornada bien organizada en un entorno especial.
LOCATION:Riosa\, Sierra del Aramo
URL:https://sportplan.vercel.app/en/events/trail-sierra-del-aramo-riosa-2026-05-23
END:VEVENT
END:VCALENDAR
