BEGIN:VCALENDAR
VERSION:2.0
PRODID:-//SportPlan//Event Calendar//EN
CALSCALE:GREGORIAN
BEGIN:VEVENT
UID:7ec35b9b-185c-4e2f-8b1b-fefdd3049627@sportplan.local
DTSTAMP:20260420T191725Z
DTSTART;VALUE=DATE:20260801
DTEND;VALUE=DATE:20260802
SUMMARY:Trail Picos de Liébana
DESCRIPTION:Trail Picos de Liébana se celebrará el 1 de agosto de 2026 en Potes. Es una buena opción para quienes buscan un reto bien organizado y una jornada deportiva en un entorno especial. La distancia anunciada es de 50 km\, ideal para planificar ritmo\, entrenamiento y logística con antelación.
LOCATION:Potes
URL:https://sportplan.vercel.app/en/events/trail-picos-de-li-bana-potes-2026-08-01
END:VEVENT
END:VCALENDAR
