BEGIN:VCALENDAR
VERSION:2.0
PRODID:-//SportPlan//Event Calendar//EN
CALSCALE:GREGORIAN
BEGIN:VEVENT
UID:bc89f82c-afc3-4465-9b9e-c94411519ecb@sportplan.local
DTSTAMP:20260420T191902Z
DTSTART;VALUE=DATE:20260621
DTEND;VALUE=DATE:20260622
SUMMARY:Trail Muel Cabezo de San Borombón
DESCRIPTION:
LOCATION:Muel\, Zaragoza
URL:https://sportplan.vercel.app/en/events/trail-muel-cabezo-de-san-boromb-n-muel-2026-06-21
END:VEVENT
END:VCALENDAR
