BEGIN:VCALENDAR
VERSION:2.0
PRODID:-//SportPlan//Event Calendar//EN
CALSCALE:GREGORIAN
BEGIN:VEVENT
UID:b9ddb67d-fe7b-40d7-ba12-9d0f94a6828c@sportplan.local
DTSTAMP:20260420T204603Z
DTSTART;VALUE=DATE:20261107
DTEND;VALUE=DATE:20261108
SUMMARY:Trail Montes de Málaga
DESCRIPTION:Trail Montes de Málaga se celebrará el 2026-11-07 en Málaga\, Parque Natural Montes de Málaga. El recorrido cubre aproximadamente 22 km\, ofreciendo una cita atractiva tanto para participantes que buscan un nuevo reto como para quienes quieren disfrutar del ambiente del evento. Ideal para sumar una nueva experiencia al calendario y disfrutar de una jornada activa en un entorno especial.
LOCATION:Málaga\, Parque Natural Montes de Málaga
URL:https://sportplan.vercel.app/en/events/trail-montes-de-m-laga-m-laga-2026-11-07
END:VEVENT
END:VCALENDAR
