BEGIN:VCALENDAR
VERSION:2.0
PRODID:-//SportPlan//Event Calendar//EN
CALSCALE:GREGORIAN
BEGIN:VEVENT
UID:13e55680-e728-4643-b4ed-e53b5ccd77cd@sportplan.local
DTSTAMP:20260420T211456Z
DTSTART;VALUE=DATE:20260920
DTEND;VALUE=DATE:20260921
SUMMARY:Trail Mendia Araba
DESCRIPTION:Trail Mendia Araba se celebra el 20 de septiembre de 2026 en Vitoria-Gasteiz. Es una cita perfecta para vivir una jornada deportiva con un recorrido de 38 km y un ambiente ideal para disfrutar del día de carrera. Ideal tanto para quienes buscan marca como para quienes quieren disfrutar del recorrido y del ambiente del evento.
LOCATION:Vitoria-Gasteiz
URL:https://sportplan.vercel.app/en/events/trail-mendia-araba-vitoria-gasteiz-2026-09-20
END:VEVENT
END:VCALENDAR
