BEGIN:VCALENDAR
VERSION:2.0
PRODID:-//SportPlan//Event Calendar//EN
CALSCALE:GREGORIAN
BEGIN:VEVENT
UID:739e1c76-c3ab-46ca-90c6-eb1083a7b8f1@sportplan.local
DTSTAMP:20260420T204756Z
DTSTART;VALUE=DATE:20260622
DTEND;VALUE=DATE:20260623
SUMMARY:Trail Mancha Real - Sierra Mágina - Corta
DESCRIPTION:
LOCATION:Mancha Real\, Jaén\, Andalucía
URL:https://sportplan.vercel.app/en/events/trail-mancha-real-sierra-magina-corta-mancha-real-2026-06-22-11-7k
END:VEVENT
END:VCALENDAR
