BEGIN:VCALENDAR
VERSION:2.0
PRODID:-//SportPlan//Event Calendar//EN
CALSCALE:GREGORIAN
BEGIN:VEVENT
UID:802e6739-9da5-48ae-ad82-99bb9139f585@sportplan.local
DTSTAMP:20260420T204610Z
DTSTART;VALUE=DATE:20260808
DTEND;VALUE=DATE:20260809
SUMMARY:Trail los Oscos
DESCRIPTION:Trail los Oscos se celebrará el 8 de agosto de 2026 en Santa Eulalia de Oscos\, Valle del Navia. Es una cita ideal para quienes buscan un recorrido bien organizado\, buen ambiente y una experiencia deportiva memorable. La distancia prevista es de 25 km\, lo que la convierte en una opción atractiva tanto para participantes habituales como para quienes quieren marcarse un nuevo reto.
LOCATION:Santa Eulalia de Oscos\, Valle del Navia
URL:https://sportplan.vercel.app/en/events/trail-los-oscos-santa-eulalia-de-oscos-2026-08-08
END:VEVENT
END:VCALENDAR
