BEGIN:VCALENDAR
VERSION:2.0
PRODID:-//SportPlan//Event Calendar//EN
CALSCALE:GREGORIAN
BEGIN:VEVENT
UID:8191b5c4-35ba-46f3-a7f6-100d3b9547be@sportplan.local
DTSTAMP:20260420T192913Z
DTSTART;VALUE=DATE:20260726
DTEND;VALUE=DATE:20260727
SUMMARY:Trail los Carabeos
DESCRIPTION:Trail los Carabeos se celebrará el 26 de julio de 2026 en Valdeprado del Río\, Cantabria. Es una buena opción para quienes buscan un reto bien organizado y una jornada deportiva en un entorno especial. La distancia anunciada es de 15 km\, ideal para planificar ritmo\, entrenamiento y logística con antelación.
LOCATION:Valdeprado del Río\, Cantabria
URL:https://sportplan.vercel.app/en/events/trail-los-carabeos-valdeprado-del-r-o-2026-07-26
END:VEVENT
END:VCALENDAR
