BEGIN:VCALENDAR
VERSION:2.0
PRODID:-//SportPlan//Event Calendar//EN
CALSCALE:GREGORIAN
BEGIN:VEVENT
UID:01c80895-f674-4d87-8fd5-defded3e6dde@sportplan.local
DTSTAMP:20260420T192109Z
DTSTART;VALUE=DATE:20260601
DTEND;VALUE=DATE:20260602
SUMMARY:Trail la Hoz de la Vieja
DESCRIPTION:Trail la Hoz de la Vieja se celebra el 1 de junio de 2026 en La Hoz de la Vieja\, Teruel\, Aragón. Es una excelente opción para quienes quieren disfrutar de un evento bien organizado en este destino. La prueba recorre 14 km. Se espera un ambiente animado y una jornada memorable tanto para corredores habituales como para debutantes.
LOCATION:La Hoz de la Vieja\, Teruel\, Aragón
URL:https://sportplan.vercel.app/en/events/trail-la-hoz-de-la-vieja-la-hoz-de-la-vieja-2026-06-01-14k
END:VEVENT
END:VCALENDAR
