BEGIN:VCALENDAR
VERSION:2.0
PRODID:-//SportPlan//Event Calendar//EN
CALSCALE:GREGORIAN
BEGIN:VEVENT
UID:5585e551-6088-4dc1-bfe5-7affaa617df2@sportplan.local
DTSTAMP:20260420T221748Z
DTSTART;VALUE=DATE:20260530
DTEND;VALUE=DATE:20260531
SUMMARY:Trail Gallinero
DESCRIPTION:Trail Gallinero es una prueba que se celebrará el 2026-05-30 en Castejón de Sos\, Huesca. Es una buena opción para quienes buscan una jornada activa y bien organizada. Ideal tanto para participantes habituales como para quienes quieren sumar una nueva experiencia al calendario.
LOCATION:Castejón de Sos\, Huesca
URL:https://sportplan.vercel.app/en/events/trail-gallinero-castej-n-de-sos-2026-05-30
END:VEVENT
END:VCALENDAR
