BEGIN:VCALENDAR
VERSION:2.0
PRODID:-//SportPlan//Event Calendar//EN
CALSCALE:GREGORIAN
BEGIN:VEVENT
UID:9b80bdbb-01c8-458e-b0c3-c7b41f428909@sportplan.local
DTSTAMP:20260420T191659Z
DTSTART;VALUE=DATE:20260621
DTEND;VALUE=DATE:20260622
SUMMARY:Trail du Ventoux 46K 2026
DESCRIPTION:Trail du Ventoux 46K 2026 aura lieu le 21 juin 2026 à Bédoin\, Vaucluse\, dans un cadre idéal pour profiter pleinement de l'événement. Avec une distance d'environ 46 km\, ce rendez-vous conviendra aussi bien aux participants réguliers qu'à celles et ceux qui souhaitent relever un nouveau défi.
LOCATION:Bédoin\, Vaucluse
URL:https://sportplan.vercel.app/en/events/trail-du-ventoux-46k-2026-b-doin-2026-06-21
END:VEVENT
END:VCALENDAR
