BEGIN:VCALENDAR
VERSION:2.0
PRODID:-//SportPlan//Event Calendar//EN
CALSCALE:GREGORIAN
BEGIN:VEVENT
UID:f12a1516-1c23-4de9-8239-477fe500c1ba@sportplan.local
DTSTAMP:20260420T211509Z
DTSTART;VALUE=DATE:20260703
DTEND;VALUE=DATE:20260705
SUMMARY:Trail du Mont-Blanc 90K 2026
DESCRIPTION:Trail du Mont-Blanc 90K 2026 aura lieu le 3 juillet 2026 à Chamonix\, Haute-Savoie. C'est un rendez-vous intéressant pour les participants à la recherche d'une expérience sportive bien organisée et d'une ambiance motivante. Le parcours couvre environ 90 km. Consultez les informations officielles de l'événement pour connaître les horaires\, le parcours et les détails logistiques.
LOCATION:Chamonix\, Haute-Savoie
URL:https://sportplan.vercel.app/en/events/trail-du-mont-blanc-90k-2026-chamonix-2026-07-03
END:VEVENT
END:VCALENDAR
