BEGIN:VCALENDAR
VERSION:2.0
PRODID:-//SportPlan//Event Calendar//EN
CALSCALE:GREGORIAN
BEGIN:VEVENT
UID:bf764886-f118-49ff-b217-c3a5c9a1345d@sportplan.local
DTSTAMP:20260420T222723Z
DTSTART;VALUE=DATE:20261024
DTEND;VALUE=DATE:20261026
SUMMARY:Trail Du Grand-Duc - QC\, Canada
DESCRIPTION:
LOCATION:Stoneham-et-Tewkesbury
URL:https://sportplan.vercel.app/en/events/trail-du-grand-duc-qc-canada-stoneham-et-tewkesbury-2026-10-24
END:VEVENT
END:VCALENDAR
