BEGIN:VCALENDAR
VERSION:2.0
PRODID:-//SportPlan//Event Calendar//EN
CALSCALE:GREGORIAN
BEGIN:VEVENT
UID:9d6c5e56-457d-4f3e-83b0-4159f9b02696@sportplan.local
DTSTAMP:20260420T194911Z
DTSTART;VALUE=DATE:20261101
DTEND;VALUE=DATE:20261102
SUMMARY:Trail do Trega - 16K
DESCRIPTION:Trail do Trega - 16K se celebrará el 2026-11-01 en A Guarda\, Pontevedra\, Galicia. El recorrido cubre aproximadamente 16 km\, ofreciendo una cita atractiva tanto para participantes que buscan un nuevo reto como para quienes quieren disfrutar del ambiente del evento. Ideal para sumar una nueva experiencia al calendario y disfrutar de una jornada activa en un entorno especial.
LOCATION:A Guarda\, Pontevedra\, Galicia
URL:https://sportplan.vercel.app/en/events/trail-do-trega-16k-a-guarda-2026-11-01-16k
END:VEVENT
END:VCALENDAR
