BEGIN:VCALENDAR
VERSION:2.0
PRODID:-//SportPlan//Event Calendar//EN
CALSCALE:GREGORIAN
BEGIN:VEVENT
UID:6c548834-844a-4b73-8c5e-aab4d12fe40b@sportplan.local
DTSTAMP:20260420T191743Z
DTSTART;VALUE=DATE:20260517
DTEND;VALUE=DATE:20260518
SUMMARY:Trail do Gerês 60K 2026
DESCRIPTION:Trail do Gerês 60K 2026 acontece em 17 maio 2026\, em Gerês\, Braga\, reunindo corredores para um dia de desporto num cenário marcante. Com 60 km de percurso\, a prova oferece um desafio equilibrado entre rendimento\, resistência e a energia do evento. O percurso sugere uma experiência de trail com desnível\, técnica e paisagens que dão identidade à prova.
LOCATION:Gerês\, Braga
URL:https://sportplan.vercel.app/en/events/trail-do-ger-s-60k-2026-ger-s-2026-05-17
END:VEVENT
END:VCALENDAR
